BEGIN:VCALENDAR
VERSION:2.0
PRODID:-//Boston Congress of Public Health - ECPv6.15.20//NONSGML v1.0//EN
CALSCALE:GREGORIAN
METHOD:PUBLISH
X-ORIGINAL-URL:https://bcph.org
X-WR-CALDESC:Events for Boston Congress of Public Health
REFRESH-INTERVAL;VALUE=DURATION:PT1H
X-Robots-Tag:noindex
X-PUBLISHED-TTL:PT1H
BEGIN:VTIMEZONE
TZID:UTC
BEGIN:STANDARD
TZOFFSETFROM:+0000
TZOFFSETTO:+0000
TZNAME:UTC
DTSTART:20230101T000000
END:STANDARD
END:VTIMEZONE
BEGIN:VEVENT
DTSTART;TZID=UTC:20241123T130000
DTEND;TZID=UTC:20241123T160000
DTSTAMP:20260421T145336
CREATED:20241007T083025Z
LAST-MODIFIED:20241122T174715Z
UID:16230-1732366800-1732377600@bcph.org
SUMMARY:Summit\, Nov 23\, AI Healthcare
DESCRIPTION:AI in Health Care and Public Health Research \n“AI in Health Care and Public Health Research” will explore the transformative potential of artificial intelligence in advancing medical practice and public health\, from enhancing disease prediction and treatment personalization to improving health data analysis and decision-making. This event will examine both the opportunities and challenges of integrating AI in research and healthcare systems to drive innovation and improve patient outcomes. Register at https://tinyurl.com/Nov23Summit.
URL:https://bcph.org/event/summit-nov-23-ai-healthcare/
CATEGORIES:Conferences,Summits,Webinars
ATTACH;FMTTYPE=image/gif:https://bcph.org/wp-content/uploads/2024/10/BCPH-Summit-3-1.gif
ORGANIZER;CN="Boston Congress of Public Heatlh":MAILTO:editorial@hphr.org
END:VEVENT
END:VCALENDAR